BEGIN:VCALENDAR
VERSION:2.0
PRODID:-//Antony Soleil - ECPv6.15.18//NONSGML v1.0//EN
CALSCALE:GREGORIAN
METHOD:PUBLISH
X-WR-CALNAME:Antony Soleil
X-ORIGINAL-URL:https://www.antonysoleil.fr
X-WR-CALDESC:Évènements pour Antony Soleil
REFRESH-INTERVAL;VALUE=DURATION:PT1H
X-Robots-Tag:noindex
X-PUBLISHED-TTL:PT1H
BEGIN:VTIMEZONE
TZID:Europe/Paris
BEGIN:DAYLIGHT
TZOFFSETFROM:+0100
TZOFFSETTO:+0200
TZNAME:CEST
DTSTART:20250330T010000
END:DAYLIGHT
BEGIN:STANDARD
TZOFFSETFROM:+0200
TZOFFSETTO:+0100
TZNAME:CET
DTSTART:20251026T010000
END:STANDARD
BEGIN:DAYLIGHT
TZOFFSETFROM:+0100
TZOFFSETTO:+0200
TZNAME:CEST
DTSTART:20260329T010000
END:DAYLIGHT
BEGIN:STANDARD
TZOFFSETFROM:+0200
TZOFFSETTO:+0100
TZNAME:CET
DTSTART:20261025T010000
END:STANDARD
BEGIN:DAYLIGHT
TZOFFSETFROM:+0100
TZOFFSETTO:+0200
TZNAME:CEST
DTSTART:20270328T010000
END:DAYLIGHT
BEGIN:STANDARD
TZOFFSETFROM:+0200
TZOFFSETTO:+0100
TZNAME:CET
DTSTART:20271031T010000
END:STANDARD
END:VTIMEZONE
BEGIN:VEVENT
DTSTART;TZID=Europe/Paris:20260415T193000
DTEND;TZID=Europe/Paris:20260415T220000
DTSTAMP:20260421T100606
CREATED:20260410T104714Z
LAST-MODIFIED:20260410T104714Z
UID:6167-1776281400-1776290400@www.antonysoleil.fr
SUMMARY:Projet d'autoconsommation collective citoyenne à Antony réunion d'information le 15 avril
DESCRIPTION:
URL:https://www.antonysoleil.fr/evenement/projet-dautoconsommation-collective-citoyenne-a-antony-reunion-dinformation-le-15-avril/
LOCATION:Espace Lanson\, Espace Henri Lansson\, place du marché\, 92160\, France
END:VEVENT
END:VCALENDAR